BEGIN:VCALENDAR
VERSION:2.0
PRODID:-//ACEDS - ECPv6.15.20//NONSGML v1.0//EN
CALSCALE:GREGORIAN
METHOD:PUBLISH
X-WR-CALNAME:ACEDS
X-ORIGINAL-URL:https://uk.aceds.org
X-WR-CALDESC:Events for ACEDS
REFRESH-INTERVAL;VALUE=DURATION:PT1H
X-Robots-Tag:noindex
X-PUBLISHED-TTL:PT1H
BEGIN:VTIMEZONE
TZID:Europe/London
BEGIN:DAYLIGHT
TZOFFSETFROM:+0000
TZOFFSETTO:+0100
TZNAME:BST
DTSTART:20250330T010000
END:DAYLIGHT
BEGIN:STANDARD
TZOFFSETFROM:+0100
TZOFFSETTO:+0000
TZNAME:GMT
DTSTART:20251026T010000
END:STANDARD
BEGIN:DAYLIGHT
TZOFFSETFROM:+0000
TZOFFSETTO:+0100
TZNAME:BST
DTSTART:20260329T010000
END:DAYLIGHT
BEGIN:STANDARD
TZOFFSETFROM:+0100
TZOFFSETTO:+0000
TZNAME:GMT
DTSTART:20261025T010000
END:STANDARD
BEGIN:DAYLIGHT
TZOFFSETFROM:+0000
TZOFFSETTO:+0100
TZNAME:BST
DTSTART:20270328T010000
END:DAYLIGHT
BEGIN:STANDARD
TZOFFSETFROM:+0100
TZOFFSETTO:+0000
TZNAME:GMT
DTSTART:20271031T010000
END:STANDARD
END:VTIMEZONE
BEGIN:VEVENT
DTSTART;TZID=Europe/London:20260512T173000
DTEND;TZID=Europe/London:20260512T200000
DTSTAMP:20260424T123252
CREATED:20260422T155130Z
LAST-MODIFIED:20260422T155130Z
UID:38053-1778607000-1778616000@uk.aceds.org
SUMMARY:️Crack the Case! The ACEDS UK May Puzzle Challenge
DESCRIPTION:Ready to put your eDiscovery skills to the ultimate test? Join ACEDS UK this May for a high-stakes\, gamified puzzle competition.\n\n\nStep into the shoes of a top-tier eDiscovery service provider and dive headfirst into a thrilling hypothetical investigation. We’ll provide the clues\, the documents\, and the mystery – you provide the strategy. Compete against your peers to design the smartest\, most efficient scoping and management plan to save the day for your corporate client and their outside counsel. \nDo your team have the wits to out-scope the competition? Game on! \n\n\nThis ACEDS UK event is kindly sponsored by Cimplifi.
URL:https://uk.aceds.org/events/%ef%b8%8fcrack-the-case-the-aceds-uk-may-puzzle-challenge/
LOCATION:RPC\, Saint Katharine's Way\, London\, E1W 1AA\, London\, E1W 1AA\, GB
ATTACH;FMTTYPE=image/jpeg:https://uk.aceds.org/wp-content/uploads/2026/04/38053_image.jpg
END:VEVENT
END:VCALENDAR